BEGIN:VCALENDAR
VERSION:2.0
PRODID:-//KADPF - ECPv6.15.20//NONSGML v1.0//EN
CALSCALE:GREGORIAN
METHOD:PUBLISH
X-WR-CALNAME:KADPF
X-ORIGINAL-URL:https://kadpf.org
X-WR-CALDESC:Events for KADPF
REFRESH-INTERVAL;VALUE=DURATION:PT1H
X-Robots-Tag:noindex
X-PUBLISHED-TTL:PT1H
BEGIN:VTIMEZONE
TZID:UTC
BEGIN:STANDARD
TZOFFSETFROM:+0000
TZOFFSETTO:+0000
TZNAME:UTC
DTSTART:20250101T000000
END:STANDARD
END:VTIMEZONE
BEGIN:VEVENT
DTSTART;TZID=UTC:20260715T080000
DTEND;TZID=UTC:20260715T170000
DTSTAMP:20260422T224553
CREATED:20260217T051618Z
LAST-MODIFIED:20260217T054353Z
UID:2457-1784102400-1784134800@kadpf.org
SUMMARY:🏗️ Core Certification Module 4: Maintenance & Operations
DESCRIPTION:Key Topics: \n\nExterior Building Envelope & Roof Maintenance\nEffective Preventative Maintenance Programs\nBuilding Automation Management Systems (BMS)\n\nLearn more about our certifications.
URL:https://kadpf.org/event/core-certification-module-4-maintenance-operations/
LOCATION:Haysville\, KS\, Haysville\, KS\, United States
ATTACH;FMTTYPE=image/png:https://kadpf.org/kadpf2017update/wp-content/uploads/2026/02/KADPF-Core-Cert.png
END:VEVENT
BEGIN:VEVENT
DTSTART;TZID=UTC:20260913T113000
DTEND;TZID=UTC:20260915T170000
DTSTAMP:20260422T224553
CREATED:20260217T052308Z
LAST-MODIFIED:20260323T201011Z
UID:2462-1789299000-1789491600@kadpf.org
SUMMARY:2026 KADPF Annual Technical Conference & Trade Show
DESCRIPTION:Technical workshops\, vendor trade show\, and networking with facility managers from across Kansas. \nVenue: Hotel Topeka and Stormont Vail Expo Center.
URL:https://kadpf.org/event/2026-kadpf-annual-technical-conference-trade-show/
LOCATION:Hotel Topeka at City Center\, 1717 SW Topeka Blvd\, Topeka\, KS\, 66612\, United States
ATTACH;FMTTYPE=image/jpeg:https://kadpf.org/kadpf2017update/wp-content/uploads/2025/07/IMG_8267-sized.jpg
END:VEVENT
BEGIN:VEVENT
DTSTART;TZID=UTC:20261104T080000
DTEND;TZID=UTC:20261104T170000
DTSTAMP:20260422T224553
CREATED:20260217T052714Z
LAST-MODIFIED:20260217T054234Z
UID:2464-1793779200-1793811600@kadpf.org
SUMMARY:💰 Core Certification Module 5: Facility Lifecycle & Budgeting
DESCRIPTION:Key Topics: \n\nManaging Sports Fields (Grass\, Turf\, & Synthetic)\nBudgeting for School Facilities Departments\nCapital Planning and Referendum Projects (Bond planning)\n\nLearn more about our certifications.
URL:https://kadpf.org/event/core-certification-module-5-facility-lifecycle-budgeting/
LOCATION:Auburn Washburn USD 437\, Topeka\, United States
ATTACH;FMTTYPE=image/png:https://kadpf.org/kadpf2017update/wp-content/uploads/2026/02/KADPF-Core-Cert.png
END:VEVENT
END:VCALENDAR