BEGIN:VCALENDAR
VERSION:2.0
PRODID:-//KADPF - ECPv6.15.20//NONSGML v1.0//EN
CALSCALE:GREGORIAN
METHOD:PUBLISH
X-WR-CALNAME:KADPF
X-ORIGINAL-URL:https://kadpf.org
X-WR-CALDESC:Events for KADPF
REFRESH-INTERVAL;VALUE=DURATION:PT1H
X-Robots-Tag:noindex
X-PUBLISHED-TTL:PT1H
BEGIN:VTIMEZONE
TZID:UTC
BEGIN:STANDARD
TZOFFSETFROM:+0000
TZOFFSETTO:+0000
TZNAME:UTC
DTSTART:20240101T000000
END:STANDARD
END:VTIMEZONE
BEGIN:VEVENT
DTSTART;TZID=UTC:20260505T073000
DTEND;TZID=UTC:20260505T143000
DTSTAMP:20260422T224618
CREATED:20260217T050542Z
LAST-MODIFIED:20260217T050922Z
UID:2451-1777966200-1777991400@kadpf.org
SUMMARY:⛳ 2nd Annual KADPF Golf Tournament
DESCRIPTION:Join KADPF for the 2nd annual golf tournament on May 5th\, 2026\, for the KADPF Golf Tournament\, an exhilarating Golf Event hosted by the Kansas Association of Directors of Plant Facilities (KADPF) at the prestigious Colbert Hills. An event to support legacy scholarships and build member engagement. \nProceeds from this event will benefit the KADPF Legacy Scholarship Program. \nRegister Today!
URL:https://kadpf.org/event/2nd-annual-kadpf-golf-tournament/
LOCATION:Colbert Hills Golf Course\, Manhattan\, KS\, Colbert Hills Golf Course\, Manhattan\, KS\, United States
ATTACH;FMTTYPE=image/png:https://kadpf.org/kadpf2017update/wp-content/uploads/2026/01/Screenshot-2026-01-30-at-3.13.40-PM.png
END:VEVENT
BEGIN:VEVENT
DTSTART;TZID=UTC:20260504T080000
DTEND;TZID=UTC:20260504T170000
DTSTAMP:20260422T224618
CREATED:20260217T045818Z
LAST-MODIFIED:20260217T054340Z
UID:2447-1777881600-1777914000@kadpf.org
SUMMARY:🛠️ Core Certification Module 3: Environmental Health & Safety
DESCRIPTION:Key Topics: \n\nIndoor Environmental Quality (IEQ)\nAsbestos & Integrated Pest Management (IPM)\nEmployee Health & Safety (OSHA compliance)\n20 Areas of Safety Concern & Responsibilities\n\nLearn more about our certifications.
URL:https://kadpf.org/event/core-certification-module-3-environmental-health-safety/
LOCATION:Manhattan\, KS\, Manhattan\, KS\, United States
ATTACH;FMTTYPE=image/png:https://kadpf.org/kadpf2017update/wp-content/uploads/2026/02/KADPF-Core-Cert.png
END:VEVENT
BEGIN:VEVENT
DTSTART;TZID=UTC:20250914T113000
DTEND;TZID=UTC:20250916T170000
DTSTAMP:20260422T224618
CREATED:20250718T193555Z
LAST-MODIFIED:20250718T193556Z
UID:743-1757849400-1758042000@kadpf.org
SUMMARY:2025 KADPF Conference
DESCRIPTION:
URL:https://kadpf.org/event/2025-kadpf-conference/
LOCATION:Hotel Topeka at City Center\, 1717 SW Topeka Blvd\, Topeka\, KS\, 66612\, United States
ATTACH;FMTTYPE=image/jpeg:https://kadpf.org/kadpf2017update/wp-content/uploads/2025/07/IMG_8267-sized.jpg
END:VEVENT
END:VCALENDAR